BEGIN:VCALENDAR
VERSION:2.0
PRODID:-//Cahaba Shrine - ECPv6.15.0.1//NONSGML v1.0//EN
CALSCALE:GREGORIAN
METHOD:PUBLISH
X-WR-CALNAME:Cahaba Shrine
X-ORIGINAL-URL:https://cahabashrine.org
X-WR-CALDESC:Events for Cahaba Shrine
REFRESH-INTERVAL;VALUE=DURATION:PT1H
X-Robots-Tag:noindex
X-PUBLISHED-TTL:PT1H
BEGIN:VTIMEZONE
TZID:UTC
BEGIN:STANDARD
TZOFFSETFROM:+0000
TZOFFSETTO:+0000
TZNAME:UTC
DTSTART:20260101T000000
END:STANDARD
END:VTIMEZONE
BEGIN:VEVENT
DTSTART;VALUE=DATE:20260422
DTEND;VALUE=DATE:20260423
DTSTAMP:20260424T125102
CREATED:20251029T154025Z
LAST-MODIFIED:20260112T203027Z
UID:10001122-1776816000-1776902399@cahabashrine.org
SUMMARY:Finance Committee & Divan meet
DESCRIPTION:
URL:https://cahabashrine.org/event/finance-committee-divan-meet-4/
END:VEVENT
END:VCALENDAR